BEGIN:VCALENDAR
VERSION:2.0
PRODID:-//ChamberMaster//Event Calendar 2.0//EN
METHOD:PUBLISH
X-PUBLISHED-TTL:P1H
REFRESH-INTERVAL:P1H
CALSCALE:GREGORIAN
BEGIN:VTIMEZONE
TZID:America/Chicago
BEGIN:DAYLIGHT
RRULE:FREQ=YEARLY;BYMONTH=3;BYDAY=2SU
DTSTART:20070101T000000
TZOFFSETFROM:-0600
TZOFFSETTO:-0500
TZNAME:Central Daylight Time
END:DAYLIGHT
BEGIN:STANDARD
RRULE:FREQ=YEARLY;BYMONTH=11;BYDAY=1SU
DTSTART:20070101T000000
TZOFFSETFROM:-0500
TZOFFSETTO:-0600
TZNAME:Central Standard Time
END:STANDARD
END:VTIMEZONE
BEGIN:VEVENT
DTSTART;TZID=America/Chicago:20260505T083000
DTEND;TZID=America/Chicago:20260505T110000
X-MICROSOFT-CDO-ALLDAYEVENT:FALSE
SUMMARY:Small Business Power Block: Ignite & Connect
DESCRIPTION:
X-ALT-DESC;FMTTYPE=text/html:
LOCATION:7718 McPherson Road Laredo 78045
UID:e.2068.1427181
SEQUENCE:3
DTSTAMP:20260422T101334Z
URL:https://business.laredochamber.com/chamber-events/Details/small-business-power-block-ignite-connect-1687910?sourceTypeId=Hub
END:VEVENT
END:VCALENDAR
